Package: findIPs Version: 1.2.0 Command: /home/biocbuild/R/R/bin/R CMD INSTALL findIPs StartedAt: 2025-01-30 20:50:25 -0000 (Thu, 30 Jan 2025) EndedAt: 2025-01-30 20:50:49 -0000 (Thu, 30 Jan 2025) EllapsedTime: 24.0 seconds RetCode: 0 Status: OK