Package: flagme Version: 1.62.0 Command: /Library/Frameworks/R.framework/Resources/bin/R CMD INSTALL flagme StartedAt: 2025-02-03 16:58:50 -0500 (Mon, 03 Feb 2025) EndedAt: 2025-02-03 16:59:47 -0500 (Mon, 03 Feb 2025) EllapsedTime: 56.4 seconds RetCode: 0 Status: OK