Package: flagme
Version: 1.62.0
Command: /home/biocbuild/R/R/bin/R CMD build --keep-empty-dirs --no-resave-data flagme
StartedAt: 2024-11-20 00:43:52 -0000 (Wed, 20 Nov 2024)
EndedAt: 2024-11-20 00:48:32 -0000 (Wed, 20 Nov 2024)
EllapsedTime: 280.4 seconds
RetCode: 0
Status: OK
PackageFile: flagme_1.62.0.tar.gz
PackageFileSize: 702 <A href="http://en.wikipedia.org/wiki/KiB" target="_blank">KiB</A>