Package: flagme Version: 1.62.0 Command: /Library/Frameworks/R.framework/Resources/bin/R CMD check --install=check:flagme.install-out.txt --library=/Library/Frameworks/R.framework/Resources/library --no-vignettes --timings flagme_1.62.0.tar.gz StartedAt: 2024-11-19 22:05:01 -0500 (Tue, 19 Nov 2024) EndedAt: 2024-11-19 22:19:27 -0500 (Tue, 19 Nov 2024) EllapsedTime: 865.7 seconds RetCode: 0 Status: WARNINGS CheckDir: flagme.Rcheck Warnings: 2