Package: flowAI
Version: 1.36.0
Command: /Library/Frameworks/R.framework/Resources/bin/R CMD INSTALL flowAI
StartedAt: 2025-02-17 15:51:13 -0500 (Mon, 17 Feb 2025)
EndedAt: 2025-02-17 15:51:40 -0500 (Mon, 17 Feb 2025)
EllapsedTime: 26.8 seconds
RetCode: 0
Status: OK