Package: flowAI Version: 1.36.0 Command: /home/biocbuild/bbs-3.20-bioc/R/bin/R CMD check --install=check:flowAI.install-out.txt --library=/home/biocbuild/bbs-3.20-bioc/R/site-library --timings flowAI_1.36.0.tar.gz StartedAt: 2025-02-03 22:24:42 -0500 (Mon, 03 Feb 2025) EndedAt: 2025-02-03 22:25:49 -0500 (Mon, 03 Feb 2025) EllapsedTime: 67.1 seconds RetCode: 0 Status: OK CheckDir: flowAI.Rcheck Warnings: 0