Package: flowAI Version: 1.36.0 Command: /home/biocbuild/R/R/bin/R CMD build --keep-empty-dirs --no-resave-data flowAI StartedAt: 2025-02-03 23:37:13 -0000 (Mon, 03 Feb 2025) EndedAt: 2025-02-03 23:37:32 -0000 (Mon, 03 Feb 2025) EllapsedTime: 19.0 seconds RetCode: 0 Status: OK PackageFile: flowAI_1.36.0.tar.gz PackageFileSize: 3.81 MiB