Package: flowBeads Version: 1.44.0 Command: /Library/Frameworks/R.framework/Resources/bin/R CMD build --keep-empty-dirs --no-resave-data flowBeads StartedAt: 2025-02-03 18:58:09 -0500 (Mon, 03 Feb 2025) EndedAt: 2025-02-03 18:58:51 -0500 (Mon, 03 Feb 2025) EllapsedTime: 41.7 seconds RetCode: 0 Status: OK PackageFile: flowBeads_1.44.0.tar.gz PackageFileSize: 978.2 KiB