Package: flowBeads Version: 1.44.0 Command: F:\biocbuild\bbs-3.20-bioc\R\bin\R.exe CMD INSTALL flowBeads StartedAt: 2025-02-03 15:46:46 -0500 (Mon, 03 Feb 2025) EndedAt: 2025-02-03 15:47:21 -0500 (Mon, 03 Feb 2025) EllapsedTime: 34.5 seconds RetCode: 0 Status: OK