Package: flowBeads Version: 1.44.0 Command: /home/biocbuild/R/R/bin/R CMD build --keep-empty-dirs --no-resave-data flowBeads StartedAt: 2025-02-03 23:37:32 -0000 (Mon, 03 Feb 2025) EndedAt: 2025-02-03 23:37:50 -0000 (Mon, 03 Feb 2025) EllapsedTime: 18.0 seconds RetCode: 0 Status: OK PackageFile: flowBeads_1.44.0.tar.gz PackageFileSize: 965.2 KiB