Package: flowBeads Version: 1.44.0 Command: /home/biocbuild/R/R/bin/R CMD INSTALL flowBeads StartedAt: 2025-02-03 20:34:45 -0000 (Mon, 03 Feb 2025) EndedAt: 2025-02-03 20:34:58 -0000 (Mon, 03 Feb 2025) EllapsedTime: 13.1 seconds RetCode: 0 Status: OK