Package: flowBin Version: 1.42.0 Command: /Library/Frameworks/R.framework/Resources/bin/R CMD INSTALL flowBin StartedAt: 2025-02-03 15:19:28 -0500 (Mon, 03 Feb 2025) EndedAt: 2025-02-03 15:19:40 -0500 (Mon, 03 Feb 2025) EllapsedTime: 12.1 seconds RetCode: 0 Status: OK