Package: flowCHIC Version: 1.40.0 Command: F:\biocbuild\bbs-3.20-bioc\R\bin\R.exe CMD check --no-multiarch --install=check:flowCHIC.install-out.txt --library=F:\biocbuild\bbs-3.20-bioc\R\library --no-vignettes --timings flowCHIC_1.40.0.tar.gz StartedAt: 2025-02-04 01:53:04 -0500 (Tue, 04 Feb 2025) EndedAt: 2025-02-04 01:55:22 -0500 (Tue, 04 Feb 2025) EllapsedTime: 138.4 seconds RetCode: 0 Status: OK CheckDir: flowCHIC.Rcheck Warnings: 0