Package: flowCHIC Version: 1.40.0 Command: F:\biocbuild\bbs-3.20-bioc\R\bin\R.exe CMD INSTALL flowCHIC StartedAt: 2025-02-03 15:50:03 -0500 (Mon, 03 Feb 2025) EndedAt: 2025-02-03 15:50:25 -0500 (Mon, 03 Feb 2025) EllapsedTime: 22.5 seconds RetCode: 0 Status: OK