Package: flowClean Version: 1.44.0 Command: rm -rf flowClean.buildbin-libdir && mkdir flowClean.buildbin-libdir && /Users/biocbuild/BBS/utils/build-universal.sh flowClean_1.44.0.tar.gz /Library/Frameworks/R.framework/Resources/bin/R flowClean.buildbin-libdir StartedAt: 2025-02-05 15:51:55 -0500 (Wed, 05 Feb 2025) EndedAt: 2025-02-05 15:52:05 -0500 (Wed, 05 Feb 2025) EllapsedTime: 10.0 seconds RetCode: 0 Status: OK PackageFile: flowClean_1.44.0.tgz PackageFileSize: 4.96 MiB