Package: flowClean
Version: 1.44.0
Command: /Library/Frameworks/R.framework/Resources/bin/R CMD check --install=check:flowClean.install-out.txt --library=/Library/Frameworks/R.framework/Resources/library --no-vignettes --timings flowClean_1.44.0.tar.gz
StartedAt: 2025-02-18 19:29:00 -0500 (Tue, 18 Feb 2025)
EndedAt: 2025-02-18 19:30:19 -0500 (Tue, 18 Feb 2025)
EllapsedTime: 79.0 seconds
RetCode: 0
Status: WARNINGS
CheckDir: flowClean.Rcheck
Warnings: 3