Package: flowClean Version: 1.44.0 Command: rm -rf flowClean.buildbin-libdir && mkdir flowClean.buildbin-libdir && F:\biocbuild\bbs-3.20-bioc\R\bin\R.exe CMD INSTALL --build --library=flowClean.buildbin-libdir flowClean_1.44.0.tar.gz StartedAt: 2025-02-04 08:30:12 -0500 (Tue, 04 Feb 2025) EndedAt: 2025-02-04 08:30:30 -0500 (Tue, 04 Feb 2025) EllapsedTime: 18.6 seconds RetCode: 0 Status: OK PackageFile: flowClean_1.44.0.zip PackageFileSize: 4.629 MiB