Package: flowClean Version: 1.44.0 Command: chmod a+r flowClean -R && F:\biocbuild\bbs-3.20-bioc\R\bin\R.exe CMD build --keep-empty-dirs --no-resave-data flowClean StartedAt: 2025-02-03 19:10:56 -0500 (Mon, 03 Feb 2025) EndedAt: 2025-02-03 19:17:35 -0500 (Mon, 03 Feb 2025) EllapsedTime: 398.3 seconds RetCode: 0 Status: OK PackageFile: flowClean_1.44.0.tar.gz PackageFileSize: 4.59 MiB