Package: flowClean Version: 1.44.0 Command: F:\biocbuild\bbs-3.20-bioc\R\bin\R.exe CMD check --no-multiarch --install=check:flowClean.install-out.txt --library=F:\biocbuild\bbs-3.20-bioc\R\library --no-vignettes --timings flowClean_1.44.0.tar.gz StartedAt: 2025-02-04 01:53:06 -0500 (Tue, 04 Feb 2025) EndedAt: 2025-02-04 01:54:32 -0500 (Tue, 04 Feb 2025) EllapsedTime: 86.3 seconds RetCode: 0 Status: WARNINGS CheckDir: flowClean.Rcheck Warnings: 3