Package: flowClean Version: 1.44.0 Command: F:\biocbuild\bbs-3.20-bioc\R\bin\R.exe CMD INSTALL flowClean StartedAt: 2025-02-03 15:45:44 -0500 (Mon, 03 Feb 2025) EndedAt: 2025-02-03 15:45:58 -0500 (Mon, 03 Feb 2025) EllapsedTime: 14.6 seconds RetCode: 0 Status: OK