Package: flowClean Version: 1.44.0 Command: /home/biocbuild/R/R/bin/R CMD check --install=check:flowClean.install-out.txt --library=/home/biocbuild/R/R/site-library --no-vignettes --timings flowClean_1.44.0.tar.gz StartedAt: 2025-02-04 07:03:29 -0000 (Tue, 04 Feb 2025) EndedAt: 2025-02-04 07:04:44 -0000 (Tue, 04 Feb 2025) EllapsedTime: 74.1 seconds RetCode: 0 Status: WARNINGS CheckDir: flowClean.Rcheck Warnings: 3