Package: flowCore Version: 2.18.0 Command: rm -rf flowCore.buildbin-libdir && mkdir flowCore.buildbin-libdir && /Users/biocbuild/BBS/utils/build-universal.sh flowCore_2.18.0.tar.gz /Library/Frameworks/R.framework/Resources/bin/R flowCore.buildbin-libdir StartedAt: 2025-02-05 15:52:05 -0500 (Wed, 05 Feb 2025) EndedAt: 2025-02-05 15:52:51 -0500 (Wed, 05 Feb 2025) EllapsedTime: 46.6 seconds RetCode: 0 Status: OK PackageFile: flowCore_2.18.0.tgz PackageFileSize: 8.141 MiB