Package: flowCore Version: 2.18.0 Command: /Library/Frameworks/R.framework/Resources/bin/R CMD check --install=check:flowCore.install-out.txt --library=/Library/Frameworks/R.framework/Resources/library --no-vignettes --timings flowCore_2.18.0.tar.gz StartedAt: 2025-02-04 19:58:32 -0500 (Tue, 04 Feb 2025) EndedAt: 2025-02-04 20:01:40 -0500 (Tue, 04 Feb 2025) EllapsedTime: 188.3 seconds RetCode: 0 Status: WARNINGS CheckDir: flowCore.Rcheck Warnings: 3