Package: flowCore Version: 2.18.0 Command: /home/biocbuild/R/R/bin/R CMD build --keep-empty-dirs --no-resave-data flowCore StartedAt: 2024-11-20 00:45:30 -0000 (Wed, 20 Nov 2024) EndedAt: 2024-11-20 00:47:22 -0000 (Wed, 20 Nov 2024) EllapsedTime: 112.2 seconds RetCode: 0 Status: OK PackageFile: flowCore_2.18.0.tar.gz PackageFileSize: 7.432 MiB