Package: flowCore Version: 2.18.0 Command: /Library/Frameworks/R.framework/Resources/bin/R CMD INSTALL flowCore StartedAt: 2025-02-03 15:26:42 -0500 (Mon, 03 Feb 2025) EndedAt: 2025-02-03 15:28:23 -0500 (Mon, 03 Feb 2025) EllapsedTime: 101.6 seconds RetCode: 0 Status: OK