Package: flowCore Version: 2.18.0 Command: /home/biocbuild/bbs-3.20-bioc/R/bin/R CMD build --keep-empty-dirs --no-resave-data --md5 flowCore StartedAt: 2025-02-03 17:26:38 -0500 (Mon, 03 Feb 2025) EndedAt: 2025-02-03 17:27:50 -0500 (Mon, 03 Feb 2025) EllapsedTime: 72.1 seconds RetCode: 0 Status: OK PackageFile: flowCore_2.18.0.tar.gz PackageFileSize: 7.459 MiB