Package: flowCore Version: 2.18.0 Command: /home/biocbuild/bbs-3.20-bioc/R/bin/R CMD check --install=check:flowCore.install-out.txt --library=/home/biocbuild/bbs-3.20-bioc/R/site-library --timings flowCore_2.18.0.tar.gz StartedAt: 2025-02-03 22:25:47 -0500 (Mon, 03 Feb 2025) EndedAt: 2025-02-03 22:28:27 -0500 (Mon, 03 Feb 2025) EllapsedTime: 160.3 seconds RetCode: 0 Status: WARNINGS CheckDir: flowCore.Rcheck Warnings: 3