Package: flowCore Version: 2.18.0 Command: /home/biocbuild/bbs-3.20-bioc/R/bin/R CMD INSTALL flowCore StartedAt: 2025-02-03 15:22:24 -0500 (Mon, 03 Feb 2025) EndedAt: 2025-02-03 15:23:06 -0500 (Mon, 03 Feb 2025) EllapsedTime: 42.3 seconds RetCode: 0 Status: OK