Package: flowCore Version: 2.18.0 Command: /home/biocbuild/R/R/bin/R CMD build --keep-empty-dirs --no-resave-data flowCore StartedAt: 2025-02-03 23:38:41 -0000 (Mon, 03 Feb 2025) EndedAt: 2025-02-03 23:40:19 -0000 (Mon, 03 Feb 2025) EllapsedTime: 98.0 seconds RetCode: 0 Status: OK PackageFile: flowCore_2.18.0.tar.gz PackageFileSize: 7.443 MiB