Package: flowCore Version: 2.18.0 Command: /home/biocbuild/R/R/bin/R CMD INSTALL flowCore StartedAt: 2025-02-03 20:32:18 -0000 (Mon, 03 Feb 2025) EndedAt: 2025-02-03 20:33:19 -0000 (Mon, 03 Feb 2025) EllapsedTime: 61.3 seconds RetCode: 0 Status: OK