Package: flowCut Version: 1.16.0 Command: /Library/Frameworks/R.framework/Resources/bin/R CMD build --keep-empty-dirs --no-resave-data flowCut StartedAt: 2025-02-03 23:42:32 -0500 (Mon, 03 Feb 2025) EndedAt: 2025-02-03 23:43:10 -0500 (Mon, 03 Feb 2025) EllapsedTime: 37.6 seconds RetCode: 0 Status: OK PackageFile: flowCut_1.16.0.tar.gz PackageFileSize: 8.384 MiB