Package: flowCut Version: 1.16.0 Command: /home/biocbuild/bbs-3.20-bioc/R/bin/R CMD check --install=check:flowCut.install-out.txt --library=/home/biocbuild/bbs-3.20-bioc/R/site-library --timings flowCut_1.16.0.tar.gz StartedAt: 2025-02-03 22:25:49 -0500 (Mon, 03 Feb 2025) EndedAt: 2025-02-03 22:27:15 -0500 (Mon, 03 Feb 2025) EllapsedTime: 86.1 seconds RetCode: 0 Status: OK CheckDir: flowCut.Rcheck Warnings: 0