Package: flowCut Version: 1.16.0 Command: /home/biocbuild/bbs-3.20-bioc/R/bin/R CMD INSTALL flowCut StartedAt: 2025-02-03 15:53:17 -0500 (Mon, 03 Feb 2025) EndedAt: 2025-02-03 15:53:26 -0500 (Mon, 03 Feb 2025) EllapsedTime: 9.6 seconds RetCode: 0 Status: OK