Package: flowCut
Version: 1.16.0
Command: /home/biocbuild/bbs-3.20-bioc/R/bin/R CMD check --install=check:flowCut.install-out.txt --library=/home/biocbuild/bbs-3.20-bioc/R/site-library --timings flowCut_1.16.0.tar.gz
StartedAt: 2024-11-20 03:02:16 -0500 (Wed, 20 Nov 2024)
EndedAt: 2024-11-20 03:03:54 -0500 (Wed, 20 Nov 2024)
EllapsedTime: 98.6 seconds
RetCode: 0
Status: OK
CheckDir: flowCut.Rcheck
Warnings: 0