Package: flowCyBar Version: 1.42.0 Command: /Library/Frameworks/R.framework/Resources/bin/R CMD INSTALL flowCyBar StartedAt: 2025-02-03 15:18:51 -0500 (Mon, 03 Feb 2025) EndedAt: 2025-02-03 15:19:19 -0500 (Mon, 03 Feb 2025) EllapsedTime: 28.5 seconds RetCode: 0 Status: OK