Package: flowCyBar Version: 1.42.0 Command: /home/biocbuild/bbs-3.20-bioc/R/bin/R CMD check --install=check:flowCyBar.install-out.txt --library=/home/biocbuild/bbs-3.20-bioc/R/site-library --timings flowCyBar_1.42.0.tar.gz StartedAt: 2025-02-03 22:25:54 -0500 (Mon, 03 Feb 2025) EndedAt: 2025-02-03 22:26:44 -0500 (Mon, 03 Feb 2025) EllapsedTime: 50.1 seconds RetCode: 0 Status: OK CheckDir: flowCyBar.Rcheck Warnings: 0