Package: flowCyBar
Version: 1.41.0
Command: rm -rf flowCyBar.buildbin-libdir && mkdir flowCyBar.buildbin-libdir && C:\Users\biocbuild\bbs-3.20-bioc\R\bin\R.exe CMD INSTALL --build --library=flowCyBar.buildbin-libdir flowCyBar_1.41.0.tar.gz
StartedAt: 2024-07-16 06:12:06 -0400 (Tue, 16 Jul 2024)
EndedAt: 2024-07-16 06:12:18 -0400 (Tue, 16 Jul 2024)
EllapsedTime: 12.5 seconds
RetCode: 0
Status: OK
PackageFile: flowCyBar_1.41.0.zip
PackageFileSize: 347 <A href="http://en.wikipedia.org/wiki/KiB" target="_blank">KiB</A>