Package: flowCyBar Version: 1.42.0 Command: chmod a+r flowCyBar -R && F:\biocbuild\bbs-3.20-bioc\R\bin\R.exe CMD build --keep-empty-dirs --no-resave-data flowCyBar StartedAt: 2025-02-03 19:12:08 -0500 (Mon, 03 Feb 2025) EndedAt: 2025-02-03 19:12:31 -0500 (Mon, 03 Feb 2025) EllapsedTime: 23.0 seconds RetCode: 0 Status: OK PackageFile: flowCyBar_1.42.0.tar.gz PackageFileSize: 318.2 KiB