Package: flowCyBar Version: 1.42.0 Command: /home/biocbuild/R/R/bin/R CMD build --keep-empty-dirs --no-resave-data flowCyBar StartedAt: 2025-02-03 23:39:05 -0000 (Mon, 03 Feb 2025) EndedAt: 2025-02-03 23:39:34 -0000 (Mon, 03 Feb 2025) EllapsedTime: 29.0 seconds RetCode: 0 Status: OK PackageFile: flowCyBar_1.42.0.tar.gz PackageFileSize: 499.5 KiB