Package: flowCyBar Version: 1.42.0 Command: /home/biocbuild/R/R/bin/R CMD INSTALL flowCyBar StartedAt: 2025-02-03 20:27:29 -0000 (Mon, 03 Feb 2025) EndedAt: 2025-02-03 20:27:58 -0000 (Mon, 03 Feb 2025) EllapsedTime: 29.1 seconds RetCode: 0 Status: OK