Package: flowDensity
Version: 1.40.0
Command: /Library/Frameworks/R.framework/Resources/bin/R CMD INSTALL flowDensity
StartedAt: 2025-02-17 16:13:35 -0500 (Mon, 17 Feb 2025)
EndedAt: 2025-02-17 16:13:58 -0500 (Mon, 17 Feb 2025)
EllapsedTime: 23.6 seconds
RetCode: 0
Status: OK