Package: flowFP Version: 1.64.0 Command: /home/biocbuild/R/R/bin/R CMD build --keep-empty-dirs --no-resave-data flowFP StartedAt: 2025-01-30 23:39:05 -0000 (Thu, 30 Jan 2025) EndedAt: 2025-01-30 23:39:36 -0000 (Thu, 30 Jan 2025) EllapsedTime: 31.0 seconds RetCode: 0 Status: OK PackageFile: flowFP_1.64.0.tar.gz PackageFileSize: 5.122 MiB