Package: flowMatch Version: 1.42.0 Command: /Library/Frameworks/R.framework/Resources/bin/R CMD build --keep-empty-dirs --no-resave-data flowMatch StartedAt: 2025-02-03 18:59:40 -0500 (Mon, 03 Feb 2025) EndedAt: 2025-02-03 19:01:19 -0500 (Mon, 03 Feb 2025) EllapsedTime: 99.5 seconds RetCode: 0 Status: OK PackageFile: flowMatch_1.42.0.tar.gz PackageFileSize: 3.676 MiB