Package: flowMatch Version: 1.42.0 Command: /Library/Frameworks/R.framework/Resources/bin/R CMD check --install=check:flowMatch.install-out.txt --library=/Library/Frameworks/R.framework/Resources/library --no-vignettes --timings flowMatch_1.42.0.tar.gz StartedAt: 2025-02-04 03:49:14 -0500 (Tue, 04 Feb 2025) EndedAt: 2025-02-04 03:53:04 -0500 (Tue, 04 Feb 2025) EllapsedTime: 230.3 seconds RetCode: 0 Status: OK CheckDir: flowMatch.Rcheck Warnings: 0