Package: flowMatch Version: 1.42.0 Command: /Library/Frameworks/R.framework/Resources/bin/R CMD INSTALL flowMatch StartedAt: 2025-02-03 15:28:23 -0500 (Mon, 03 Feb 2025) EndedAt: 2025-02-03 15:29:23 -0500 (Mon, 03 Feb 2025) EllapsedTime: 59.3 seconds RetCode: 0 Status: OK