Package: flowMeans Version: 1.66.0 Command: /Library/Frameworks/R.framework/Resources/bin/R CMD build --keep-empty-dirs --no-resave-data flowMeans StartedAt: 2025-02-03 23:44:17 -0500 (Mon, 03 Feb 2025) EndedAt: 2025-02-03 23:44:57 -0500 (Mon, 03 Feb 2025) EllapsedTime: 40.2 seconds RetCode: 0 Status: OK PackageFile: flowMeans_1.66.0.tar.gz PackageFileSize: 3.284 MiB