Package: flowMeans
Version: 1.66.0
Command: /home/biocbuild/bbs-3.20-bioc/R/bin/R CMD INSTALL flowMeans
StartedAt: 2024-11-19 15:34:24 -0500 (Tue, 19 Nov 2024)
EndedAt: 2024-11-19 15:34:40 -0500 (Tue, 19 Nov 2024)
EllapsedTime: 16.0 seconds
RetCode: 0
Status: OK