Package: flowMerge Version: 2.54.0 Command: /Library/Frameworks/R.framework/Resources/bin/R CMD build --keep-empty-dirs --no-resave-data flowMerge StartedAt: 2025-02-03 23:44:46 -0500 (Mon, 03 Feb 2025) EndedAt: 2025-02-03 23:45:44 -0500 (Mon, 03 Feb 2025) EllapsedTime: 58.2 seconds RetCode: 0 Status: OK PackageFile: flowMerge_2.54.0.tar.gz PackageFileSize: 630.7 KiB