Package: flowMerge Version: 2.54.0 Command: /Library/Frameworks/R.framework/Resources/bin/R CMD build --keep-empty-dirs --no-resave-data flowMerge StartedAt: 2025-02-03 18:59:47 -0500 (Mon, 03 Feb 2025) EndedAt: 2025-02-03 19:01:38 -0500 (Mon, 03 Feb 2025) EllapsedTime: 110.3 seconds RetCode: 0 Status: OK PackageFile: flowMerge_2.54.0.tar.gz PackageFileSize: 630.7 KiB