Package: flowMerge Version: 2.54.0 Command: rm -rf flowMerge.buildbin-libdir && mkdir flowMerge.buildbin-libdir && F:\biocbuild\bbs-3.20-bioc\R\bin\R.exe CMD INSTALL --build --library=flowMerge.buildbin-libdir flowMerge_2.54.0.tar.gz StartedAt: 2025-02-04 08:30:39 -0500 (Tue, 04 Feb 2025) EndedAt: 2025-02-04 08:31:29 -0500 (Tue, 04 Feb 2025) EllapsedTime: 50.3 seconds RetCode: 0 Status: OK PackageFile: flowMerge_2.54.0.zip PackageFileSize: 899.4 KiB